BEGIN:VCALENDAR
PRODID:-//eluceo/ical//2.0/EN
VERSION:2.0
CALSCALE:GREGORIAN
BEGIN:VEVENT
UID:22b77a3f63fa9b7aafc38e7d2699e461
DTSTAMP:20260422T114807Z
SUMMARY:Schlagzeugunterricht
DESCRIPTION:Termine nach Vereinbarung. Anmeldung und Information unter 0176
 . 620 778 25
URL:https://kulturhausbabelsberg.de/de/workshop/schlagzeugunterricht/
DTSTART:20200507T140000
DTEND:20200507T200000
LOCATION:Kulturhaus Babelsberg (Musikzimmer\, 1. OG)
END:VEVENT
BEGIN:VTIMEZONE
TZID:Europe/Berlin
BEGIN:DAYLIGHT
DTSTART:20200507T140000
TZNAME:CEST
TZOFFSETTO:+0200
TZOFFSETFROM:+0200
END:DAYLIGHT
END:VTIMEZONE
END:VCALENDAR
