BEGIN:VCALENDAR
PRODID:-//eluceo/ical//2.0/EN
VERSION:2.0
CALSCALE:GREGORIAN
BEGIN:VEVENT
UID:d7dd97cf5d41deb76f3ba02479ab4eab
DTSTAMP:20260421T113032Z
SUMMARY:Bailando Potsdam - Bachata
DESCRIPTION:Bei uns lernst du die karibischen Tänze Bachata und Salsa und 
 wir haben für jeden Geschmack etwas in unserem Kursprogramm. Die Anmeldun
 g erfolgt ohne Partner\, wir wechseln in den Kursen fortlaufend durch und 
 so bildet sich eine kleine Tanz-Community und man knüpft schnell neue Bek
 anntschaften. Bei uns ist freie Rollenwahl\, ob du als Leader (die führen
 de Rolle) oder Follower (die folgende Rolle) tanzen möchtest\, ist dir ü
 berlassen. Neben Paartanzkursen bieten wir auch tolle Solo-Kurse an\, bei 
 denen du ganz für dich das Tanzbein schwingst!\nTanzen tut gut\, dem Kör
 per und der Seele – und mit dem lateinamerikanischen Flair und den schö
 nen Rhythmen der Salsa und Bachata kommt Schwung in deine Hüfte und eine 
 kleine Prise Urlaubsfeeling in deinen Alltag!\nSetz‘ dich jetzt in Konta
 kt mit uns und komm vorbei – wir freuen uns auf dich!\nMehr Infos unter:
 \nwww.bailandopotsdam.de\nInstagram: bailando_potsdam\nYoutube: Bailando P
 otsdam\nEmail: bailandopotsdam@gmail.com\nJohanna (Inhaberin): 0176/967532
 97                                    
   \nFür Unternehmen sowie Schulklassen und Lehrkräfte bieten neben den
  regulären Kursen auch Animationen\, Workshops und Teambuildingmaßnahmen
  an.\n 
URL:https://kulturhausbabelsberg.de/de/workshop/salsa-styling-kurs/
DTSTART:20231004T193000
DTEND:20231004T203000
LOCATION:Kulturhaus Babelsberg\, Kursraum II
END:VEVENT
BEGIN:VTIMEZONE
TZID:Europe/Berlin
BEGIN:DAYLIGHT
DTSTART:20231004T193000
TZNAME:CEST
TZOFFSETTO:+0200
TZOFFSETFROM:+0200
END:DAYLIGHT
END:VTIMEZONE
END:VCALENDAR
