BEGIN:VCALENDAR
PRODID:-//eluceo/ical//2.0/EN
VERSION:2.0
CALSCALE:GREGORIAN
BEGIN:VEVENT
UID:b8b029034676240e24ffe60a88147e33
DTSTAMP:20260421T181523Z
SUMMARY:Pilates
DESCRIPTION:Pilates\, 2 Kurse (Neu ab Juni)\nMöchtest du etwas für deinen
  Körper in entspannter Atmosphäre tun?\nMit Pilates kombinierst du Kraft
 training mit fließenden Bewegungen.\nDas ganzheitliche Training stärkt d
 einen Rücken und deine Körpermitte und verbessert so deine Körperhaltun
 g und dein Körperbewusstsein.\nNebenbei formst du Bauch\, Taille\, Beine\
 , Po und Arme und entspannst deinen Schulter-Nackenbereich.\n \nDie beide
 n Pilateskurse (Level 1-2) finden ab dem 03.06.2026 immer mittwochs 18-19 
 Uhr und 19:15-20:15 (60min) und richtet sich an Anfänger und Fortgeschrit
 tene.\nAnmeldung unter: pilates.schoppe@gmx.de oder telefonisch unter 0163
 -7362717
URL:https://kulturhausbabelsberg.de/de/workshop/pilates/
DTSTART:20260603T180000
DTEND:20260603T210000
LOCATION:Kulturhaus Babelsberg (Kerwienzimmer)
END:VEVENT
BEGIN:VTIMEZONE
TZID:Europe/Berlin
BEGIN:DAYLIGHT
DTSTART:20260603T180000
TZNAME:CEST
TZOFFSETTO:+0200
TZOFFSETFROM:+0200
END:DAYLIGHT
END:VTIMEZONE
END:VCALENDAR
