BEGIN:VCALENDAR
PRODID:-//eluceo/ical//2.0/EN
VERSION:2.0
CALSCALE:GREGORIAN
BEGIN:VEVENT
UID:57109612d5e66e574b1f1cbcf7ca58af
DTSTAMP:20260423T114134Z
SUMMARY:Musiksterne - Tanzen-Singen-Instrumente spielen
DESCRIPTION:
URL:https://kulturhausbabelsberg.de/de/workshop/musiksterne-tanzen-singen-i
 nstrumente-spielen-2/
DTSTART:20241008T170000
DTEND:20241008T174500
LOCATION:Kulturhaus Babelsberg (Saal)
END:VEVENT
BEGIN:VTIMEZONE
TZID:Europe/Berlin
BEGIN:DAYLIGHT
DTSTART:20241008T170000
TZNAME:CEST
TZOFFSETTO:+0200
TZOFFSETFROM:+0200
END:DAYLIGHT
END:VTIMEZONE
END:VCALENDAR
