BEGIN:VCALENDAR
PRODID:-//eluceo/ical//2.0/EN
VERSION:2.0
CALSCALE:GREGORIAN
BEGIN:VEVENT
UID:3ad77c0eb3e99514c0bb515066bfcee2
DTSTAMP:20260422T152800Z
SUMMARY:Internationale Folktänze für Erwachsene
DESCRIPTION:Kreis-\, Reihen- und Paartänze für Fortgeschrittene\nAnmeldun
 gen und Informationen bei Thomas Römerthomastanz@gmx.de oder Tel. 030. 42
 3 94 35
URL:https://kulturhausbabelsberg.de/de/workshop/internationale-folkt%c3%a4n
 ze-f%c3%bcr-fortgeschrittene/
DTSTART:20200511T200000
DTEND:20200511T213000
LOCATION:Kulturhaus Babelsberg (Saal)
END:VEVENT
BEGIN:VTIMEZONE
TZID:Europe/Berlin
BEGIN:DAYLIGHT
DTSTART:20200511T200000
TZNAME:CEST
TZOFFSETTO:+0200
TZOFFSETFROM:+0200
END:DAYLIGHT
END:VTIMEZONE
END:VCALENDAR
