BEGIN:VCALENDAR
PRODID:-//eluceo/ical//2.0/EN
VERSION:2.0
CALSCALE:GREGORIAN
BEGIN:VEVENT
UID:24e8c6254c4b1ec415ac55d7eb7547c2
DTSTAMP:20260422T191056Z
SUMMARY:Internationale Folktänze für Jugendliche
DESCRIPTION:Anmeldungen und Informationen bei Thomas Römerthomastanz@gmx.d
 e oder Tel. 030. 423 94 35
URL:https://kulturhausbabelsberg.de/de/workshop/internationale-folkt%C3%A4n
 ze-f%C3%BCr-jugendliche/
DTSTART:20200511T180000
DTEND:20200511T184500
LOCATION:Kulturhaus Babelsberg (Saal)
END:VEVENT
BEGIN:VTIMEZONE
TZID:Europe/Berlin
BEGIN:DAYLIGHT
DTSTART:20200511T180000
TZNAME:CEST
TZOFFSETTO:+0200
TZOFFSETFROM:+0200
END:DAYLIGHT
END:VTIMEZONE
END:VCALENDAR
