BEGIN:VCALENDAR
PRODID:-//eluceo/ical//2.0/EN
VERSION:2.0
CALSCALE:GREGORIAN
BEGIN:VEVENT
UID:c24c96c141ba990c5f1eb3562e8082be
DTSTAMP:20260422T153801Z
SUMMARY:Englisch lernen - Generation 50 Plus
DESCRIPTION:14:00-18:00 Uhr\, 2 Kurse je 1 Std. 45 Min.
URL:https://kulturhausbabelsberg.de/de/workshop/englisch-lernen-generation-
 50-plus/
DTSTART:20220915T140000
DTEND:20220915T180000
LOCATION:Kulturhaus Babelsberg / Herrenzimmer
END:VEVENT
BEGIN:VTIMEZONE
TZID:Europe/Berlin
BEGIN:DAYLIGHT
DTSTART:20220915T140000
TZNAME:CEST
TZOFFSETTO:+0200
TZOFFSETFROM:+0200
END:DAYLIGHT
END:VTIMEZONE
END:VCALENDAR
