BEGIN:VCALENDAR
PRODID:-//eluceo/ical//2.0/EN
VERSION:2.0
CALSCALE:GREGORIAN
BEGIN:VEVENT
UID:64f07d3cb739b66e251b89ccf301d988
DTSTAMP:20260422T145023Z
SUMMARY:VERNISSAGE: DESTELLOS DEL INCONCIENTE (BLITZE DES UNBEWUSSTEN)
DESCRIPTION:
URL:https://kulturhausbabelsberg.de/de/veranstaltung/vernissage-destellos-d
 el-inconciente-blitze-des-unbewussten-von-vanesa-harbek/
DTSTART:20260702T190000
DTEND:20260702T190000
LOCATION:Kulturhaus Babelsberg (Lounge\, Salon\, Herrenzimmer)
END:VEVENT
BEGIN:VTIMEZONE
TZID:Europe/Berlin
BEGIN:DAYLIGHT
DTSTART:20260702T190000
TZNAME:CEST
TZOFFSETTO:+0200
TZOFFSETFROM:+0200
END:DAYLIGHT
END:VTIMEZONE
END:VCALENDAR
