BEGIN:VCALENDAR
PRODID:-//eluceo/ical//2.0/EN
VERSION:2.0
CALSCALE:GREGORIAN
BEGIN:VEVENT
UID:df68fb87d71020533fd9b11e61b7dd54
DTSTAMP:20260423T111452Z
SUMMARY:Sommerkonzert der Musikschule Klangkunst
DESCRIPTION:Schülerinnen und Schüler der Musikschule Klangkunst gestalten
  ein buntes Programm mit Gesang und verschiedenen Instrumenten. Beginn ist
  im Saal mit der Klassikabteilung Gesang und Klavier. Weiter geht es (bei 
 gutem Wetter)  im Anschluss auf der Open-Air-Bühne im Hof mit verschiede
 nen Bands und Einzeldarbietungen.
URL:https://kulturhausbabelsberg.de/de/veranstaltung/sommerkonzert-der-musi
 kschule-klangkunst/
DTSTART:20240706T150000
DTEND:20240706T150000
LOCATION:Kulturhaus Babelsberg (Bühne Innenhof oder wetterbedingt im Saal)
END:VEVENT
BEGIN:VTIMEZONE
TZID:Europe/Berlin
BEGIN:DAYLIGHT
DTSTART:20240706T150000
TZNAME:CEST
TZOFFSETTO:+0200
TZOFFSETFROM:+0200
END:DAYLIGHT
END:VTIMEZONE
END:VCALENDAR
