BEGIN:VCALENDAR
PRODID:-//eluceo/ical//2.0/EN
VERSION:2.0
CALSCALE:GREGORIAN
BEGIN:VEVENT
UID:f1934520b0261a9278cb0ea850fb831a
DTSTAMP:20260421T094139Z
SUMMARY:„SEHNSUCHT NACH DEM ANDERSWO“ BLANCHE KOMMERELL LIEST MASCHA KA
 LEKO
DESCRIPTION:
URL:https://kulturhausbabelsberg.de/de/veranstaltung/sehnsucht-nach-dem-and
 erswo-blanche-kommerell-liest-mascha-kaleko/
DTSTART:20250116T190000
DTEND:20250116T190000
LOCATION:Kulturhaus Babelsberg (Lounge)
END:VEVENT
BEGIN:VTIMEZONE
TZID:Europe/Berlin
BEGIN:STANDARD
DTSTART:20250116T190000
TZNAME:CET
TZOFFSETTO:+0100
TZOFFSETFROM:+0100
END:STANDARD
END:VTIMEZONE
END:VCALENDAR
