BEGIN:VCALENDAR
PRODID:-//eluceo/ical//2.0/EN
VERSION:2.0
CALSCALE:GREGORIAN
BEGIN:VEVENT
UID:4683718cffbf8f15f3e140af697da986
DTSTAMP:20260421T010653Z
SUMMARY:"Blues und Artverwandtes" mit PASS OVER BLUES
DESCRIPTION:Vorverkaufspreise für Onlinetickets: 13\,00 € / 11\,00 € 
     Abendkasse: 15\,00 € / 12\,00 €\nAuch im Sommer 2024 darf ein Ko
 nzert von PASS OVER BLUES nicht in unserem Programm fehlen. Seit 33 Jahren
  gibt es die beliebte Bluesrock-Band\, seit 2008 spielen sie beständig in
  der Besetzung Roland Beeg\, Harro Hübner\, Lutz Mohri und Michiel Demeye
 re und begeistern mit ihren Kompositionen und Texten das Publikum deutschl
 andweit. Freuen Sie sich auf ein tolles Openair-Erlebnis mit älteren und 
 ganz neuen Songs von und mit Pass over Blues.\n 
URL:https://kulturhausbabelsberg.de/de/veranstaltung/pass-over-blues-2/
DTSTART:20240831T200000
DTEND:20240831T200000
LOCATION:Kulturhaus Babelsberg (Bühne Innenhof oder wetterbedingt im Saal)
END:VEVENT
BEGIN:VTIMEZONE
TZID:Europe/Berlin
BEGIN:DAYLIGHT
DTSTART:20240831T200000
TZNAME:CEST
TZOFFSETTO:+0200
TZOFFSETFROM:+0200
END:DAYLIGHT
END:VTIMEZONE
END:VCALENDAR
