BEGIN:VCALENDAR
PRODID:-//eluceo/ical//2.0/EN
VERSION:2.0
CALSCALE:GREGORIAN
BEGIN:VEVENT
UID:2c880e1cd5d372bd41cd769f2e65d9ce
DTSTAMP:20260423T113330Z
SUMMARY:MUSIKALISCH-LITERARISCHE SOIREE:  DAS CHRISTENTUM UND DIE ENTSTEHUN
 G DES MODERNEN EUROPA
DESCRIPTION:Der prominente Historiker Prof. Dr. Heinz Schilling liest aus s
 einem großen wichtigen und neuen Werk:\n"Das Christentum und die Entstehu
 ng des modernen Europa"\nMusikalisches Rahmenprogramm:\nMarianne Boettcher
 : Violine\; Yuko Tomeda: Klavier.\nWerke von Bach\, Händel\, Mozart\, F. 
 Mendelssohn u.a.\nEine Veranstaltung in Kooperation mit dem Verein für mu
 sikalisch-literarische Soireen in Potsdam e. V.\nReservierungen unter +49_
 331_70 49 264 \, vor Ort nur Barzahlung möglich.
URL:https://kulturhausbabelsberg.de/de/veranstaltung/musikalisch-literarisc
 he-soiree-das-christentum-und-die-entstehung-des-modernen-europa/
DTSTART:20241116T170000
DTEND:20241116T170000
LOCATION:Kulturhaus Babelsberg (Saal)
END:VEVENT
BEGIN:VTIMEZONE
TZID:Europe/Berlin
BEGIN:STANDARD
DTSTART:20241116T170000
TZNAME:CET
TZOFFSETTO:+0100
TZOFFSETFROM:+0100
END:STANDARD
END:VTIMEZONE
END:VCALENDAR
