BEGIN:VCALENDAR
PRODID:-//eluceo/ical//2.0/EN
VERSION:2.0
CALSCALE:GREGORIAN
BEGIN:VEVENT
UID:d867450c562a467ab3dbf562880286d7
DTSTAMP:20260421T094140Z
SUMMARY:Mord auf Reisen
DESCRIPTION:Inspiriert von den Reisegeschichten von Agatha Christie geschie
 ht auch diese Kriminalgeschichte auf einer Reise. Die Story entsteht dabei
  nicht nur spontan und live auf der Bühne\, sondern auch mithilfe des Pub
 likums! Denn die Zuschauer bestimmen Ort und Ziel der Reise\, sowie Täter
  und Opfer. So gehen Darsteller und Gäste gemeinsam auf Verbrecherjagd.\n
 Mehr Informationen unter: www.impro-potsdam.de
URL:https://kulturhausbabelsberg.de/de/veranstaltung/mord-auf-reisen-2/
DTSTART:20250329T200000
DTEND:20250329T200000
LOCATION:Kulturhaus Babelsberg (Saal)
END:VEVENT
BEGIN:VTIMEZONE
TZID:Europe/Berlin
BEGIN:STANDARD
DTSTART:20250329T200000
TZNAME:CET
TZOFFSETTO:+0100
TZOFFSETFROM:+0100
END:STANDARD
END:VTIMEZONE
END:VCALENDAR
