BEGIN:VCALENDAR
PRODID:-//eluceo/ical//2.0/EN
VERSION:2.0
CALSCALE:GREGORIAN
BEGIN:VEVENT
UID:db223be54a3b5682ab151e24e4594357
DTSTAMP:20260423T110810Z
SUMMARY:Jazzreihe Babelsberg feat. The Toughest Tenors
DESCRIPTION:
URL:https://kulturhausbabelsberg.de/de/veranstaltung/jazzreihe-babelsberg-f
 eat-the-toughest-tenors/
DTSTART:20260917T200000
DTEND:20260917T200000
LOCATION:Kulturhaus Babelsberg (Saal)
END:VEVENT
BEGIN:VTIMEZONE
TZID:Europe/Berlin
BEGIN:DAYLIGHT
DTSTART:20260917T200000
TZNAME:CEST
TZOFFSETTO:+0200
TZOFFSETFROM:+0200
END:DAYLIGHT
END:VTIMEZONE
END:VCALENDAR
