BEGIN:VCALENDAR
PRODID:-//eluceo/ical//2.0/EN
VERSION:2.0
CALSCALE:GREGORIAN
BEGIN:VEVENT
UID:9b48806cbb384c0acc383abd619780a7
DTSTAMP:20260421T095145Z
SUMMARY:Jazzreihe Babelsberg feat. Oli Bott Trio
DESCRIPTION:
URL:https://kulturhausbabelsberg.de/de/veranstaltung/jazzreihe-babelsberg-f
 eat-oli-bott-trio/
DTSTART:20251120T200000
DTEND:20251120T200000
LOCATION:Kulturhaus Babelsberg (Saal)
END:VEVENT
BEGIN:VTIMEZONE
TZID:Europe/Berlin
BEGIN:STANDARD
DTSTART:20251120T200000
TZNAME:CET
TZOFFSETTO:+0100
TZOFFSETFROM:+0100
END:STANDARD
END:VTIMEZONE
END:VCALENDAR
