BEGIN:VCALENDAR
PRODID:-//eluceo/ical//2.0/EN
VERSION:2.0
CALSCALE:GREGORIAN
BEGIN:VEVENT
UID:4d76b3979eac0e7f867b51e0facae99b
DTSTAMP:20260423T111353Z
SUMMARY:Elfi und die kleine Angst
DESCRIPTION:Elfi hat eine geheime Freundin\, die kleine Angst. Als die mäc
 htige Kräuterelfe\, Petra Silius\, für Elfi eine schwere Aufgabe bereith
 ält\, wird die Freundschaft zwischen Elfi und der kleinen Angst auf die P
 robe gestellt. Erstaunliches geschieht!Ein Puppenspiel von und mit dem Pup
 pentheater „DaLang“ für Kinder ab 6 Jahren\, Dauer ca. 45 min.\nVerbi
 ndliche Anmeldungen unter 0049 160 8484833 oder senamvfxnxbruyre@bayvar.qr
URL:https://kulturhausbabelsberg.de/de/veranstaltung/elfi-und-die-kleine-an
 gst/
DTSTART:20250122T100000
DTEND:20250122T100000
LOCATION:Kulturhaus Babelsberg (Saal)
END:VEVENT
BEGIN:VTIMEZONE
TZID:Europe/Berlin
BEGIN:STANDARD
DTSTART:20250122T100000
TZNAME:CET
TZOFFSETTO:+0100
TZOFFSETFROM:+0100
END:STANDARD
END:VTIMEZONE
END:VCALENDAR
