BEGIN:VCALENDAR
PRODID:-//eluceo/ical//2.0/EN
VERSION:2.0
CALSCALE:GREGORIAN
BEGIN:VEVENT
UID:7c6d56073fad7cd17a1e938b3951cef4
DTSTAMP:20260423T145259Z
SUMMARY:ELECTRO_LAB_BABELSBERG FEAT. SOUND8 ORCHESTRA
DESCRIPTION:Das Sound8 Orchestra ist das Projekt des Musikers und Multiinst
 rumentalisten Matthias Wyder. Die Musik umspannt die Genres Easy Listening
 \, Low-Budget-Lounge-Musik\, Retro-Futuristische B-Movie-Soundtracks und p
 sychedelische Electro Sounds. Die Live geremixten Instrumental Tracks lieg
 en irgendwo zwischen Lee Perry\, Add N To X\, Sun Ra und James Bond Soundt
 racks. Live werden Wyders Keyboardsounds zu Found-Footage-Filmen von drei 
 Super 8 Film Projektoren gespielt\, das zu einem einmaligen analogen und a
 udiovisuellen Erlebnis führt.\nAktuell wird das neue vierte Album Vol.4 l
 ive präsentiert.\nFreut Euch auf ein außergewöhnliches Konzerterlebnis 
 im historischen Ambiente des ehemaligen Ratsherrensaal!\nTICKETS im Vorver
 kauf: 10\,00 € / 8\,00 € (ermäßigt) \nAbendkasse: 11\,00 € / 9\,00
  € (ermäßigt)
URL:https://kulturhausbabelsberg.de/de/veranstaltung/electro-lab-babelsberg
 -feat-sound8-orchestra/
DTSTART:20241004T200000
DTEND:20241004T200000
LOCATION:Kulturhaus Babelsberg (Saal)
END:VEVENT
BEGIN:VTIMEZONE
TZID:Europe/Berlin
BEGIN:DAYLIGHT
DTSTART:20241004T200000
TZNAME:CEST
TZOFFSETTO:+0200
TZOFFSETFROM:+0200
END:DAYLIGHT
END:VTIMEZONE
END:VCALENDAR
