BEGIN:VCALENDAR
PRODID:-//eluceo/ical//2.0/EN
VERSION:2.0
CALSCALE:GREGORIAN
BEGIN:VEVENT
UID:21d3df2c1f30405b87d7e2db53b26769
DTSTAMP:20260421T094427Z
SUMMARY:DIGITALE MEDIEN IM GRUNDSCHULALTER
DESCRIPTION:Anmeldung erwünscht unter 0331.7049264 oder xhygheunhf@njb-cbg
 fqnz.qr\nEigentlich sind Grundschulkinder noch zu jung für Smartphones. D
 och die Realität sieht inzwischen anders aus: Fast 90 % aller 10-Jährige
 n in Deutschland besitzen bereits ein Smartphone mit Internetzugang und ke
 nnen Cybermobbing\, Hate im Internet\, Fake Inhalte und Kontaktaufnahme du
 rch Fremde bereits aus eigener Erfahrung. Selbst die Jüngsten unter ihnen
  haben teilweise schon erste beängstigende Inhalte auf TikTok & Co. entde
 ckt oder wurden sogar sexuell belästigt.
URL:https://kulturhausbabelsberg.de/de/veranstaltung/digitale-medien-im-gru
 ndschulalter/
DTSTART:20241114T170000
DTEND:20241114T170000
LOCATION:Kulturhaus Babelsberg (Lounge)
END:VEVENT
BEGIN:VTIMEZONE
TZID:Europe/Berlin
BEGIN:STANDARD
DTSTART:20241114T170000
TZNAME:CET
TZOFFSETTO:+0100
TZOFFSETFROM:+0100
END:STANDARD
END:VTIMEZONE
END:VCALENDAR
