BEGIN:VCALENDAR
PRODID:-//eluceo/ical//2.0/EN
VERSION:2.0
CALSCALE:GREGORIAN
BEGIN:VEVENT
UID:6d93e187d45e99b8dbebafc34238e4bc
DTSTAMP:20260422T110943Z
SUMMARY:Die Geschichte des Rathaus Babelsberg
DESCRIPTION:Erfahren Sie mehr zur Geschichte des von Julius Otto Kerwien en
 tworfenen Rathauses für das damalige Arbeiterviertel Nowawes. In der ca. 
 1 stündigen Führung erhalten die Besucher*innen einen Einblick in versch
 iedene Räumlichkeiten des Hauses. Es werden die prägendsten Ereignisse\,
  insbesondere die kulturellen Spuren anhand der Chronik des Hauses wiederg
 egeben.\nDie Führung wird durch das AWO Kulturhaus Babelsberg in Kooperat
 ion mit der Geschichtswerkstatt „Rotes Nowawes“ angeboten.\nAnmeldung 
 erbeten unter +49 331 70 49 264 oder per Mail.\nEintritt frei\, Spenden we
 rden gern entgegen genommen.
URL:https://kulturhausbabelsberg.de/de/veranstaltung/die-geschichte-des-rat
 haus-babelsberg-dem-heutigen-awo-kulturhaus-babelsberg-3/
DTSTART:20240608T113000
DTEND:20240608T123000
LOCATION:Kulturhaus Babelsberg / Treff: Hauseingang
END:VEVENT
BEGIN:VTIMEZONE
TZID:Europe/Berlin
BEGIN:DAYLIGHT
DTSTART:20240608T113000
TZNAME:CEST
TZOFFSETTO:+0200
TZOFFSETFROM:+0200
END:DAYLIGHT
END:VTIMEZONE
END:VCALENDAR
