BEGIN:VCALENDAR
PRODID:-//eluceo/ical//2.0/EN
VERSION:2.0
CALSCALE:GREGORIAN
BEGIN:VEVENT
UID:f5eeda7812d2fd44ba139ad8771ef31e
DTSTAMP:20260423T114504Z
SUMMARY:Das dürfen wir! - Rechtssicherheit im Engagement
DESCRIPTION:
URL:https://kulturhausbabelsberg.de/de/veranstaltung/das-d%c3%bcrfen-wir-re
 chtssicherheit-im-engagement-2/
DTSTART:20251202T183000
DTEND:20251202T183000
LOCATION:Kulturhaus Babelsberg (Lounge)
END:VEVENT
BEGIN:VTIMEZONE
TZID:Europe/Berlin
BEGIN:STANDARD
DTSTART:20251202T183000
TZNAME:CET
TZOFFSETTO:+0100
TZOFFSETFROM:+0100
END:STANDARD
END:VTIMEZONE
END:VCALENDAR
